BEGIN:VCALENDAR
VERSION:2.0
PRODID:-//ChamberMaster//Event Calendar 2.0//EN
METHOD:PUBLISH
X-PUBLISHED-TTL:P3D
REFRESH-INTERVAL:P3D
CALSCALE:GREGORIAN
BEGIN:VEVENT
DTSTART:20260423T210000Z
DTEND:20260423T230000Z
X-MICROSOFT-CDO-ALLDAYEVENT:FALSE
SUMMARY:Spring Into Wellness
DESCRIPTION:Please join Your Health at our Murrells Inlet Clinic to learn about our Weight Loss programs\, Hormone Replacement Therapy\, Peptides\, & Botox/Daxxify.  We also will be talking about our new Skin Pen procedures.  We will have food\, drinks\, complimentary B12 shots\, discounts and giveaways!
X-ALT-DESC;FMTTYPE=text/html:Please join Your Health at our Murrells Inlet Clinic to learn about our Weight Loss programs\, Hormone Replacement Therapy\, Peptides\, &amp\; Botox/Daxxify.&nbsp\; We also will be talking about our new Skin Pen procedures.&nbsp\; We will have food\, drinks\, complimentary B12 shots\, discounts and giveaways!&nbsp\;
LOCATION:4111 Murrells Inlet Road\, Murrells Inlet\, SC 29576 Please RSVP to (854)243-1167.
UID:e.157.26656
SEQUENCE:3
DTSTAMP:20260420T080517Z
URL:https://dev.visitgeorge.com/events/details/spring-into-wellness-26656
END:VEVENT

END:VCALENDAR
