BEGIN:VCALENDAR
VERSION:2.0
PRODID:-//ChamberMaster//Event Calendar 2.0//EN
METHOD:PUBLISH
X-PUBLISHED-TTL:P3D
REFRESH-INTERVAL:P3D
CALSCALE:GREGORIAN
BEGIN:VEVENT
DTSTART;VALUE=DATE:20260423
DTEND;VALUE=DATE:20260424
TRANSP:TRANSPARENT
X-MICROSOFT-CDO-ALLDAYEVENT:TRUE
SUMMARY:Pawleys Island Old Town Hall Spring Art Show
DESCRIPTION:The Award Winning Members of the Waccamaw Neck Arts Alliance will be featuring original Pawleys Island themed paintings\, pottery\, photography and local authors books at the charming historic Pawleys Island Old Town Hall located at 321 Myrtle Avenue\, Pawleys Island. All works are for sale\, and a portion of each sale goes to the maintenance of the Old Town Hall.
X-ALT-DESC;FMTTYPE=text/html:<h2 style="font-style:italic"><span style="color:#0000FF">The Award Winning Members of the Waccamaw Neck Arts Alliance will be featuring original Pawleys Island themed paintings\, pottery\, photography and local authors books at the charming historic Pawleys Island Old Town Hall located at 321 Myrtle Avenue\, Pawleys Island. All works are for sale\, and a portion of each sale goes to the maintenance of the Old Town Hall.</span></h2>\n
LOCATION:Pawleys Island Old Town Hall 321 Myrtle Avenue\, Pawleys Island\, SC 29585
UID:e.157.26535
SEQUENCE:3
DTSTAMP:20260422T091311Z
URL:https://dev.visitgeorge.com/events/details/pawleys-island-old-town-hall-spring-art-show-04-23-2026-26535
END:VEVENT

END:VCALENDAR
